BEGIN:VCALENDAR
VERSION:2.0
PRODID:-//ChamberMaster//Event Calendar 2.0//EN
METHOD:PUBLISH
X-PUBLISHED-TTL:P3D
REFRESH-INTERVAL:P3D
CALSCALE:GREGORIAN
BEGIN:VEVENT
DTSTART:20130821T173000Z
DTEND:20130821T183000Z
X-MICROSOFT-CDO-ALLDAYEVENT:FALSE
SUMMARY:Elements of a State Proposal 4.0 - Webinar
DESCRIPTION:Learn the secrets to winning a State of Michigan proposal. This is part of  the Procurement and Technical Assistance Center (PTAC) of the Flint & Genesee Chamber of Commerce’s five-course series that will develop your skills in the government marketplace. At the end of the training curriculum you will receive a certification of completion in government contracting.\n\nUpcoming trainings:\n\n	September 11: Flint & Genesee Contract Opportunities 5.0 @ 1:30 p.m. Downtown Flint at Flint & Genesee Chamber of Commerce\n\nTo register: Contact Chelsea Schutz at (810) 600-1437 or ptac@flintandgenesee.org. Once you register you will be sent in GoToMeeting call in details. Thank you for your interest!
X-ALT-DESC;FMTTYPE=text/html:Learn the secrets to winning a State of Michigan proposal. This is part of  the Procurement and Technical Assistance Center (PTAC) of the Flint &amp\; Genesee Chamber of Commerce’s five-course series that will develop your skills in the government marketplace. At the end of the training curriculum you will receive a certification of completion in government contracting.\n\nUpcoming trainings:\n<ul>\n	<li><strong>September 11:</strong> Flint &amp\; Genesee Contract Opportunities 5.0 @ 1:30 p.m. Downtown Flint at Flint &amp\; Genesee Chamber of Commerce</li>\n</ul>\n<strong>To register:</strong> Contact Chelsea Schutz at (810) 600-1437 or <a href="mailto:ptac@flintandgenesee.org">ptac@flintandgenesee.org</a>. Once you register you will be sent in GoToMeeting call in details. Thank you for your interest!
LOCATION:
UID:e.2606.207
SEQUENCE:3
DTSTAMP:20260421T233711Z
URL:https://members.flintandgeneseechamber.org/events/details/elements-of-a-state-proposal-4-0-webinar-08-21-2013-207
END:VEVENT

END:VCALENDAR
