BEGIN:VCALENDAR
VERSION:2.0
PRODID:-//ChamberMaster//Event Calendar 2.0//EN
METHOD:PUBLISH
X-PUBLISHED-TTL:P3D
REFRESH-INTERVAL:P3D
CALSCALE:GREGORIAN
BEGIN:VEVENT
DTSTART:20140506T160000Z
DTEND:20140506T170000Z
X-MICROSOFT-CDO-ALLDAYEVENT:FALSE
SUMMARY:ELGA Credit Union Ribbon Cutting
DESCRIPTION:Please join us as we celebrate the Grand Opening/Ribbon Cutting of Elga's new state of the art facility on May 6th @ Noon.\n\nJoin the Flint & Genesee Chamber of Commerce in conjunction with the Swartz Creek Area Chamber of Commerce for this celebration.\n\nIf you have any questions please call the Chamber at 810-600-1404.
X-ALT-DESC;FMTTYPE=text/html:Please join us as we celebrate the Grand Opening/Ribbon Cutting of Elga's new state of the art facility on May 6th @ Noon.\n\nJoin the Flint &amp\; Genesee Chamber of Commerce in conjunction with the Swartz Creek Area Chamber of Commerce for this celebration.\n\nIf you have any questions please call the Chamber at 810-600-1404.
LOCATION:ELGA Credit Union- Corunna Road Branch 5080 Corunna Road Flint Michigan 48532
UID:e.2606.865
SEQUENCE:3
DTSTAMP:20260421T102309Z
URL:https://members.flintandgeneseechamber.org/events/details/elga-credit-union-ribbon-cutting-05-06-2014-865
END:VEVENT

END:VCALENDAR
