BEGIN:VCALENDAR
VERSION:2.0
PRODID:-//ChamberMaster//Event Calendar 2.0//EN
METHOD:PUBLISH
X-PUBLISHED-TTL:P3D
REFRESH-INTERVAL:P3D
CALSCALE:GREGORIAN
BEGIN:VEVENT
DTSTART:20250127T180000Z
DTEND:20250127T200000Z
X-MICROSOFT-CDO-ALLDAYEVENT:FALSE
SUMMARY:Embracing Disruption: A GenAI Primer
DESCRIPTION:Start your new year by gaining a better understanding of one of the world's most disruptive technologies: generative AI.\n\nThe College of Innovation & Technology at UM-Flint is proud to present "Embracing Disruption: A GenAI Primer\," a TED Talk-style webinar hosted by Dan Garrison\, CTO of Accenture Song. Dan will explore a brief history of AI\, its fundamentals and areas of impact\, and ultimately\, why this technology matters to all of us.\n\nDon't miss this opportunity to expand your knowledge\, spark new ideas\, and stay ahead in an increasingly AI-driven world. And be sure to bring an open mind and an entrepreneurial spirit!\n\nClick here to register for free!
X-ALT-DESC;FMTTYPE=text/html:<p><span style="font-family:arial\,sans-serif\; font-size:10pt">Start your new year by gaining a better understanding of one of the world&#39\;s most disruptive technologies: generative AI.</span></p>\n\n<p><span style="font-family:arial\,sans-serif\; font-size:10pt">The College of Innovation &amp\; Technology at UM-Flint is proud to present &quot\;Embracing Disruption: A GenAI Primer\,&quot\; a TED Talk-style webinar hosted by Dan Garrison\, CTO of Accenture Song. Dan will explore a brief history of AI\, its fundamentals and areas of impact\, and ultimately\, why this technology matters to all of us.</span></p>\n\n<p><span style="font-family:arial\,sans-serif\; font-size:10pt">Don&#39\;t miss this opportunity to expand your knowledge\, spark new ideas\, and stay ahead in an increasingly AI-driven world. And be sure to bring an open mind and an entrepreneurial spirit!</span></p>\n\n<p><a href="http://events.umflint.edu/cit/events/11065"><font face="arial\, sans-serif"><span style="font-size:13.3333px">Click here to register for free!</span></font></a></p>\n\n<div>&nbsp\;</div>\n
LOCATION:This is an online webinar presented via Zoom.
UID:e.2606.18821
SEQUENCE:3
DTSTAMP:20260422T162108Z
URL:https://members.flintandgeneseechamber.org/events/details/embracing-disruption-a-genai-primer-01-27-2025-18821
END:VEVENT

END:VCALENDAR
