BEGIN:VCALENDAR
VERSION:2.0
PRODID:-//ChamberMaster//Event Calendar 2.0//EN
METHOD:PUBLISH
X-PUBLISHED-TTL:P3D
REFRESH-INTERVAL:P3D
CALSCALE:GREGORIAN
BEGIN:VEVENT
DTSTART:20130207T223000Z
DTEND:20130208T000000Z
X-MICROSOFT-CDO-ALLDAYEVENT:FALSE
SUMMARY:Exporter of the Year Awards
DESCRIPTION:By invitation only\n\nCost: Free
X-ALT-DESC;FMTTYPE=text/html:By invitation only\n\nCost: Free
LOCATION:Lapeer Country Club 3786 Hunt Rd Lapeer Michigan 48446
UID:e.2606.16
SEQUENCE:3
DTSTAMP:20260422T091158Z
URL:https://members.flintandgeneseechamber.org/events/details/exporter-of-the-year-awards-02-07-2013-16
END:VEVENT

END:VCALENDAR
