BEGIN:VCALENDAR
VERSION:2.0
PRODID:-//ChamberMaster//Event Calendar 2.0//EN
METHOD:PUBLISH
X-PUBLISHED-TTL:P3D
REFRESH-INTERVAL:P3D
CALSCALE:GREGORIAN
BEGIN:VEVENT
DTSTART:20251004T150000Z
DTEND:20251004T210000Z
X-MICROSOFT-CDO-ALLDAYEVENT:FALSE
SUMMARY:Fall Harvest Festival @ Applewood
DESCRIPTION:Celebrate the season at Applewood and join us for free family fun in Flint! The Ruth Mott Foundation's Fall Harvest Festival is on Saturday\, Oct. 4 from 11 a.m. to 5 p.m.\n\n\n\nThis FREE community event includes a variety of activities. \n\n-Doughnuts & Cider\, Apples\, and more Tastes of Applewood\n\n-Harvest Activities & Displays\n\n-Music & Performances\n\n-Live Demonstrations and Community Resource Tables\n\n-Historic House Tours\, no reservations necessary\n\n-Storytelling\n\n\n\n**Please Note: Parking will be available in the Applewood Visitor Parking Lot on Walnut Street AND in the former visitor parking lot at the intersection of Robert T. Longway Blvd. & Kearsley Street.\n\n\n\nFor more information call 810-233-3835 or visit applewood.org.
X-ALT-DESC;FMTTYPE=text/html:Celebrate the season at Applewood and join us for free family fun in Flint! The Ruth Mott Foundation&#39\;s Fall Harvest Festival is on Saturday\, Oct. 4 from 11 a.m. to 5 p.m.<br />\n<br />\nThis FREE community event includes a variety of activities.&nbsp\;<br />\n-Doughnuts &amp\; Cider\, Apples\, and more Tastes of Applewood<br />\n-Harvest Activities &amp\; Displays<br />\n-Music &amp\; Performances<br />\n-Live Demonstrations and Community Resource Tables<br />\n-Historic House Tours\, no reservations necessary<br />\n-Storytelling<br />\n<br />\n**Please Note: Parking will be available in the Applewood Visitor Parking Lot on Walnut Street AND in the former visitor parking lot at the intersection of Robert T. Longway Blvd. &amp\; Kearsley Street.<br />\n<br />\nFor more information call 810-233-3835 or visit applewood.org.
LOCATION:1400 E. Kearsley Street Flint\, MI 48503
UID:e.2606.20101
SEQUENCE:3
DTSTAMP:20260421T210232Z
URL:https://members.flintandgeneseechamber.org/events/details/fall-harvest-festival-applewood-20101
END:VEVENT

END:VCALENDAR
