BEGIN:VCALENDAR
VERSION:2.0
PRODID:-//ChamberMaster//Event Calendar 2.0//EN
METHOD:PUBLISH
X-PUBLISHED-TTL:P3D
REFRESH-INTERVAL:P3D
CALSCALE:GREGORIAN
BEGIN:VEVENT
DTSTART:20140403T130000Z
DTEND:20140403T140000Z
X-MICROSOFT-CDO-ALLDAYEVENT:FALSE
SUMMARY:Federal Contracting 503 Regulation Webinar
DESCRIPTION:Is Federal Contracting an important aspect of your business? If so\, we encourage you to attend this 503 Regulation Webinar. Starting March 2014 the 503 Regulation will be a new clause that may be added to federal contracts which could affect your labor force & who you employ.\n\nTo learn more about how this regulation could potentially impact your business\, please plan on attend our 503 Overview Webinar on Wednesday\, April 3rd from 9 – 10 a.m. online through GoToMeeting.com. This topic will be presented by Ron Newton from Newton International.\n\nRegistration is required with Chelsea Schutz at: ptac@flintandgenesee.org or 810-600-1437. Upon registering with Chelsea you will receive a confirmation email with login details for GoToMeeting.com
X-ALT-DESC;FMTTYPE=text/html:Is Federal Contracting an important aspect of your business? If so\, we encourage you to attend this 503 Regulation Webinar. Starting March 2014 the 503 Regulation will be a new clause that may be added to federal contracts which could affect your labor force &amp\; who you employ.\n\nTo learn more about how this regulation could potentially impact your business\, please plan on attend our <b><i>503 Overview Webinar on Wednesday\, April 3rd from 9 – 10 a.m. online through GoToMeeting.com</i></b>. This topic will be presented by Ron Newton from Newton International.\n\nRegistration is required with Chelsea Schutz at: <a href="mailto:ptac@flintandgenesee.org">ptac@flintandgenesee.org</a> or 810-600-1437. Upon registering with Chelsea you will receive a confirmation email with login details for GoToMeeting.com
LOCATION:
UID:e.2606.846
SEQUENCE:3
DTSTAMP:20260421T112224Z
URL:https://members.flintandgeneseechamber.org/events/details/federal-contracting-503-regulation-webinar-04-03-2014-846
END:VEVENT

END:VCALENDAR
