BEGIN:VCALENDAR
VERSION:2.0
PRODID:-//ChamberMaster//Event Calendar 2.0//EN
METHOD:PUBLISH
X-PUBLISHED-TTL:P3D
REFRESH-INTERVAL:P3D
CALSCALE:GREGORIAN
BEGIN:VEVENT
DTSTART:20140712T150000Z
DTEND:20140712T200000Z
X-MICROSOFT-CDO-ALLDAYEVENT:FALSE
SUMMARY:Fenton Artwalk
DESCRIPTION:Fenton Artwalk is a community event celebrating the arts and showcasing local and regional artists. Artists will display their work inside participating businesses and at local organizations. Visitors can circulate through the storefronts to see and shop for artwork. Also enjoy live entertainment and sculptures\, dining\, storytelling and more including a community Afterglow from 4:30 p.m. to 9:30 p.m. For more information visit www.fentonbecloser.com.
X-ALT-DESC;FMTTYPE=text/html:Fenton Artwalk is a community event celebrating the arts and showcasing local and regional artists. Artists will display their work inside participating businesses and at local organizations. Visitors can circulate through the storefronts to see and shop for artwork. Also enjoy live entertainment and sculptures\, dining\, storytelling and more including a community Afterglow from 4:30 p.m. to 9:30 p.m. For more information visit <a title="Fenton Artwalk " href="http://www.fentonbecloser.com/1/Fenton_MI/fenton_2014_artwalk.asp" target="_blank">www.fentonbecloser.com</a>.
LOCATION:Downtown Fenton at Leroy Street Leroy Street Fenton Michigan
UID:e.2606.1187
SEQUENCE:3
DTSTAMP:20260421T084358Z
URL:https://members.flintandgeneseechamber.org/events/details/fenton-artwalk-07-12-2014-1187
END:VEVENT

END:VCALENDAR
