BEGIN:VCALENDAR
VERSION:2.0
PRODID:-//ChamberMaster//Event Calendar 2.0//EN
METHOD:PUBLISH
X-PUBLISHED-TTL:P3D
REFRESH-INTERVAL:P3D
CALSCALE:GREGORIAN
BEGIN:VEVENT
DTSTART;VALUE=DATE:20130302
DTEND;VALUE=DATE:20130304
TRANSP:TRANSPARENT
X-MICROSOFT-CDO-ALLDAYEVENT:TRUE
SUMMARY:Fenton Community Expo
DESCRIPTION:www.fentonchamber.com
X-ALT-DESC;FMTTYPE=text/html:<a href="http://www.fentonchamber.com/">www.fentonchamber.com</a>
LOCATION:
UID:e.2606.42
SEQUENCE:3
DTSTAMP:20260422T072947Z
URL:https://members.flintandgeneseechamber.org/events/details/fenton-community-expo-03-02-2013-42
END:VEVENT

END:VCALENDAR
