BEGIN:VCALENDAR
VERSION:2.0
PRODID:-//ChamberMaster//Event Calendar 2.0//EN
METHOD:PUBLISH
X-PUBLISHED-TTL:P3D
REFRESH-INTERVAL:P3D
CALSCALE:GREGORIAN
BEGIN:VEVENT
DTSTART;VALUE=DATE:20130704
DTEND;VALUE=DATE:20130705
TRANSP:TRANSPARENT
X-MICROSOFT-CDO-ALLDAYEVENT:TRUE
SUMMARY:''Fenton Freedom Festival''
DESCRIPTION:Celebrate 4th of July during Fenton's 23rd Annual "Freedom Festival" featuring a pancake breakfast\, parade\, a Firecracker 5K Run\, classic car display\, animal exhibit\, BBQ chicken\, children's games\, arts & crafts\, live entertainment and much more.  A fireworks display will light up the sky at Silver Lake Park at 10 p.m. For a detailed schedule of activities visit www.fentonchamber.com.
X-ALT-DESC;FMTTYPE=text/html:Celebrate 4th of July during Fenton's 23rd Annual "Freedom Festival" featuring a pancake breakfast\, parade\, a Firecracker 5K Run\, classic car display\, animal exhibit\, BBQ chicken\, children's games\, arts &amp\; crafts\, live entertainment and much more.  A fireworks display will light up the sky at Silver Lake Park at 10 p.m. For a detailed schedule of activities visit <a title="Fenton Freedom Festival" href="http://www.fentonchamber.com" target="_blank">www.fentonchamber.com.</a>\n\n&nbsp\;
LOCATION:Fenton Community & Cultural Center 150 S. Leroy Street Fenton Michigan
UID:e.2606.43
SEQUENCE:3
DTSTAMP:20260422T004809Z
URL:https://members.flintandgeneseechamber.org/events/details/fenton-freedom-festival-07-04-2013-43
END:VEVENT

END:VCALENDAR
