BEGIN:VCALENDAR
VERSION:2.0
PRODID:-//ChamberMaster//Event Calendar 2.0//EN
METHOD:PUBLISH
X-PUBLISHED-TTL:P3D
REFRESH-INTERVAL:P3D
CALSCALE:GREGORIAN
BEGIN:VEVENT
DTSTART;VALUE=DATE:20131207
DTEND;VALUE=DATE:20131209
TRANSP:TRANSPARENT
X-MICROSOFT-CDO-ALLDAYEVENT:TRUE
SUMMARY:Fenton ''Jinglefest'' 2013
DESCRIPTION:Celebrate the holiday season with family fun featuring ice sculpture carvings\, a lighted parade\, fireworks\, a Santa entertainment tent\, a Jinglejog 5K race\, baked goods\, live entertainment and so much more. For a detailed schedule of activities visit www.fentonbecloser.com.
X-ALT-DESC;FMTTYPE=text/html:Celebrate the holiday season with family fun featuring ice sculpture carvings\, a lighted parade\, fireworks\, a Santa entertainment tent\, a Jinglejog 5K race\, baked goods\, live entertainment and so much more. For a detailed schedule of activities visit <a title="Fenton Jinglefest 2013" href="http://www.fentonbecloser.com/1/Fenton_MI/index.asp" target="_blank">www.fentonbecloser.com</a>.
LOCATION:Downtown Fenton at Leroy Street Leroy Street Fenton Michigan
UID:e.2606.47
SEQUENCE:3
DTSTAMP:20260421T171353Z
URL:https://members.flintandgeneseechamber.org/events/details/fenton-jinglefest-2013-12-07-2013-47
END:VEVENT

END:VCALENDAR
