BEGIN:VCALENDAR
VERSION:2.0
PRODID:-//ChamberMaster//Event Calendar 2.0//EN
METHOD:PUBLISH
X-PUBLISHED-TTL:P3D
REFRESH-INTERVAL:P3D
CALSCALE:GREGORIAN
BEGIN:VEVENT
DTSTART:20131013T180000Z
DTEND:20131013T200000Z
X-MICROSOFT-CDO-ALLDAYEVENT:FALSE
SUMMARY:Fenton Village Players Presents ''Kitchen Witches''
DESCRIPTION:Isobel Lomax and Dolly Biddle are two "mature" cable-access cooking show hostesses who have hated each other for 30 years\, ever since Larry Biddle dated one and married the other. When circumstances put them together on a TV show called The Kitchen Witches\, the insults are flung harder than the food! Dolly's long-suffering TV-producer son Stephen tries to keep them on track\, but as long as Dolly's dressing room is one inch closer to the set than Isobel's\, it's a losing battle\, and the show becomes a rating smash as Dolly and Isobel top both Martha Stewart and Jerry Springer! For details and a schedule of upcoming shows visit www.fentonvillageplayers.org.
X-ALT-DESC;FMTTYPE=text/html:Isobel Lomax and Dolly Biddle are two "mature" cable-access cooking show hostesses who have hated each other for 30 years\, ever since Larry Biddle dated one and married the other. When circumstances put them together on a TV show called The Kitchen Witches\, the insults are flung harder than the food! Dolly's long-suffering TV-producer son Stephen tries to keep them on track\, but as long as Dolly's dressing room is one inch closer to the set than Isobel's\, it's a losing battle\, and the show becomes a rating smash as Dolly and Isobel top both Martha Stewart and Jerry Springer! For details and a schedule of upcoming shows visit <a title="Fenton Village Players" href="http://www.fentonvillageplayers.org/" target="_blank">www.fentonvillageplayers.org</a>.
LOCATION:Fenton Village Playhouse 14197 Torrey Rd. Fenton Michigan 48430
UID:e.2606.477
SEQUENCE:3
DTSTAMP:20260421T203036Z
URL:https://members.flintandgeneseechamber.org/events/details/fenton-village-players-presents-kitchen-witches-10-13-2013-477
END:VEVENT

END:VCALENDAR
