BEGIN:VCALENDAR
VERSION:2.0
PRODID:-//ChamberMaster//Event Calendar 2.0//EN
METHOD:PUBLISH
X-PUBLISHED-TTL:P3D
REFRESH-INTERVAL:P3D
CALSCALE:GREGORIAN
BEGIN:VEVENT
DTSTART;VALUE=DATE:20130620
DTEND;VALUE=DATE:20130624
TRANSP:TRANSPARENT
X-MICROSOFT-CDO-ALLDAYEVENT:TRUE
SUMMARY:Fenton Village Players Presents ''The Foreigner''
DESCRIPTION:In this wild and wacky comedy\, Charlie Baker needs to get away\, and his friend Froggy knows just the place - his favorite little fishing lodge in rural Georgia. To get Charlie some much needed peace\, Froggy convinces the locals that his friend doesn't understand English. But the plan backfires when all the lodge's inhabitants start revealing deep secrets and diabolical plans in front of their quiet foreign guest. Nonstop hilarity ensues and builds to an outrageously funny climax in which the "Foreigner" just might save the day. For details and a schedule of upcoming shows visit www.fentonvillageplayers.org.
X-ALT-DESC;FMTTYPE=text/html:In this wild and wacky comedy\, Charlie Baker needs to get away\, and his friend Froggy knows just the place - his favorite little fishing lodge in rural Georgia. To get Charlie some much needed peace\, Froggy convinces the locals that his friend doesn't understand English. But the plan backfires when all the lodge's inhabitants start revealing deep secrets and diabolical plans in front of their quiet foreign guest. Nonstop hilarity ensues and builds to an outrageously funny climax in which the "Foreigner" just might save the day. For details and a schedule of upcoming shows visit <a title="Fenton Village Players" href="http://www.fentonvillageplayers.org" target="_blank">www.fentonvillageplayers.org</a>.
LOCATION:Fenton Village Playhouse 14197 Torrey Rd. Fenton Michigan 48430
UID:e.2606.50
SEQUENCE:3
DTSTAMP:20260422T023602Z
URL:https://members.flintandgeneseechamber.org/events/details/fenton-village-players-presents-the-foreigner-06-20-2013-50
END:VEVENT

END:VCALENDAR
