BEGIN:VCALENDAR
VERSION:2.0
PRODID:-//ChamberMaster//Event Calendar 2.0//EN
METHOD:PUBLISH
X-PUBLISHED-TTL:P3D
REFRESH-INTERVAL:P3D
CALSCALE:GREGORIAN
BEGIN:VEVENT
DTSTART;VALUE=DATE:20130801
DTEND;VALUE=DATE:20130805
TRANSP:TRANSPARENT
X-MICROSOFT-CDO-ALLDAYEVENT:TRUE
SUMMARY:Fenton Village Players Presents ''The Secret Garden''
DESCRIPTION:Living in a lonely manor house in 1906 England\, Archibald Craven yearns for his beautiful\, late wife. He blames his crippled son\, Colin\, for his wife's death and has left him neglected and isolated. Their quiet routine is turned upside down when young Mary Lennox\, a rich\, spoiled child\, is sent to live with them following the death of her parents by cholera in India. While living at the manor house\, Mary discovers a secret walled garden hidden in the grounds and releases the magic and adventures locked inside\, changing their lives forever. For details and a schedule of upcoming shows visit www.fentonvillageplayers.org.
X-ALT-DESC;FMTTYPE=text/html:Living in a lonely manor house in 1906 England\, Archibald Craven yearns for his beautiful\, late wife. He blames his crippled son\, Colin\, for his wife's death and has left him neglected and isolated. Their quiet routine is turned upside down when young Mary Lennox\, a rich\, spoiled child\, is sent to live with them following the death of her parents by cholera in India. While living at the manor house\, Mary discovers a secret walled garden hidden in the grounds and releases the magic and adventures locked inside\, changing their lives forever. For details and a schedule of upcoming shows visit <a title="Fenton Village Players" href="http://www.fentonvillageplayers.org" target="_blank">www.fentonvillageplayers.org</a>.
LOCATION:Fenton Village Playhouse 14197 Torrey Rd. Fenton Michigan 48430
UID:e.2606.217
SEQUENCE:3
DTSTAMP:20260421T234435Z
URL:https://members.flintandgeneseechamber.org/events/details/fenton-village-players-presents-the-secret-garden-08-01-2013-217
END:VEVENT

END:VCALENDAR
