BEGIN:VCALENDAR
VERSION:2.0
PRODID:-//ChamberMaster//Event Calendar 2.0//EN
METHOD:PUBLISH
X-PUBLISHED-TTL:P3D
REFRESH-INTERVAL:P3D
CALSCALE:GREGORIAN
BEGIN:VEVENT
DTSTART:20260128T140000Z
DTEND:20260128T150000Z
X-MICROSOFT-CDO-ALLDAYEVENT:FALSE
SUMMARY:FGYP Presents | Let's Talk Wellness
DESCRIPTION:Join us for a discussion all about wellness. We're bringing together a group of industry experts\, from mindfulness to nutrition and fitness\, to share practical insights and live demonstrations you can actually use. Whether you're setting wellness goals for 2026\, working on better habits\, or just curious about what works\, this conversation is for you. Come listen\, ask questions\, and connect with other young professionals who are figuring it out too.
X-ALT-DESC;FMTTYPE=text/html:<!--StartFragment--><span data-olk-copy-source="MessageBody">Join us for a discussion all about wellness. We&rsquo\;re bringing together a group of industry experts\, from mindfulness to nutrition and fitness\, to share practical insights and live demonstrations you can actually use. Whether you&rsquo\;re setting wellness goals for 2026\, working on better habits\, or just curious about what works\, this conversation is for you. Come listen\, ask questions\, and connect with other young professionals who are figuring it out too.</span><!--EndFragment-->
LOCATION:The Crim Fitness Foundation 719 Harrison St. Ste. 102. Flint\, MI 48502
UID:e.2606.20190
SEQUENCE:3
DTSTAMP:20260421T162415Z
URL:https://members.flintandgeneseechamber.org/events/details/fgyp-presents-let-s-talk-wellness-20190
END:VEVENT

END:VCALENDAR
