BEGIN:VCALENDAR
VERSION:2.0
PRODID:-//ChamberMaster//Event Calendar 2.0//EN
METHOD:PUBLISH
X-PUBLISHED-TTL:P3D
REFRESH-INTERVAL:P3D
CALSCALE:GREGORIAN
BEGIN:VEVENT
DTSTART:20251219T133000Z
DTEND:20251219T160000Z
X-MICROSOFT-CDO-ALLDAYEVENT:FALSE
SUMMARY:FGYP Volunteer Service Day
DESCRIPTION:Tis the season! Join us for our annual volunteer day at the Food Bank of Eastern Michigan.  This event is open to anyone who wants to participate - not just current FGYP members!\n \n\nWe will be packing and/or sorting food.  Wear comfy clothes and closed toe shoes.
X-ALT-DESC;FMTTYPE=text/html:<span style="font-size:14px\;"><span style="font-family:arial\;">Tis the season!&nbsp\;</span></span><span style="font-family: arial\; font-size: 14px\; color: rgb(0\, 0\, 0)\; font-style: inherit\; font-variant-ligatures: inherit\; font-variant-caps: inherit\; font-weight: inherit\;">Join us for our annual volunteer day at the Food Bank of Eastern Michigan.&nbsp\; This event is open to anyone who wants to participate - not just current FGYP members!</span>\n<div class="x_elementToProof" style="border: 0px\; font-style: inherit\; font-variant: inherit\; font-weight: inherit\; font-stretch: inherit\; font-size: 12pt\; line-height: inherit\; font-family: Aptos\, Aptos_EmbeddedFont\, Aptos_MSFontService\, Calibri\, Helvetica\, sans-serif\; font-optical-sizing: inherit\; font-size-adjust: inherit\; font-kerning: inherit\; font-feature-settings: inherit\; font-variation-settings: inherit\; margin: 0px\; padding: 0px\; vertical-align: baseline\; color: rgb(0\, 0\, 0)\;">&nbsp\;</div>\n\n<div class="x_elementToProof" style="border: 0px\; font-style: inherit\; font-variant: inherit\; font-weight: inherit\; font-stretch: inherit\; font-size: 12pt\; line-height: inherit\; font-family: Aptos\, Aptos_EmbeddedFont\, Aptos_MSFontService\, Calibri\, Helvetica\, sans-serif\; font-optical-sizing: inherit\; font-size-adjust: inherit\; font-kerning: inherit\; font-feature-settings: inherit\; font-variation-settings: inherit\; margin: 0px\; padding: 0px\; vertical-align: baseline\; color: rgb(0\, 0\, 0)\;"><span style="font-size:14px\;"><span style="font-family:arial\;">We will be packing and/or sorting food.&nbsp\; Wear comfy clothes and closed toe shoes.</span></span></div>\n\n<div class="x_elementToProof" style="border: 0px\; font-style: inherit\; font-variant: inherit\; font-weight: inherit\; font-stretch: inherit\; font-size: 12pt\; line-height: inherit\; font-family: Aptos\, Aptos_EmbeddedFont\, Aptos_MSFontService\, Calibri\, Helvetica\, sans-serif\; font-optical-sizing: inherit\; font-size-adjust: inherit\; font-kerning: inherit\; font-feature-settings: inherit\; font-variation-settings: inherit\; margin: 0px\; padding: 0px\; vertical-align: baseline\; color: rgb(0\, 0\, 0)\;">&nbsp\;</div>\n
LOCATION:Food Bank of Eastern Michigan 1927 Howard Drive\, Flint\, MI 48503
UID:e.2606.20145
SEQUENCE:3
DTSTAMP:20260421T192513Z
URL:https://members.flintandgeneseechamber.org/events/details/fgyp-volunteer-service-day-20145
END:VEVENT

END:VCALENDAR
