BEGIN:VCALENDAR
VERSION:2.0
PRODID:-//ChamberMaster//Event Calendar 2.0//EN
METHOD:PUBLISH
X-PUBLISHED-TTL:P3D
REFRESH-INTERVAL:P3D
CALSCALE:GREGORIAN
BEGIN:VEVENT
DTSTART:20190607T220000Z
DTEND:20190608T000000Z
X-MICROSOFT-CDO-ALLDAYEVENT:FALSE
SUMMARY:First Fridays at Longway Planetarium: 50 Years of Discovery
DESCRIPTION:Join Longway and take a look inside the history of the space race between the U.S. and the Soviet Union comparing achievements of both of these space programs and how the space race still benefits us today. Admission includes admission to the 7 p.m. showing of Journey to Space. For more information and a schedule of upcoming Longway events visit sloanlongway.org.
X-ALT-DESC;FMTTYPE=text/html:Join Longway and take a look inside the history of the space race between the U.S. and the Soviet Union comparing achievements of both of these space programs and how the space race still benefits us today. Admission includes admission to the 7 p.m. showing of Journey to Space. For more information and a schedule of upcoming Longway events visit <a href="http://sloanlongway.org/" target="_blank">sloanlongway.org</a>.&nbsp\;&nbsp\;
LOCATION:Longway Planetarium 1310 E. Kearsley Street Flint\, MI 48503
UID:e.2606.9726
SEQUENCE:3
DTSTAMP:20260421T085517Z
URL:https://members.flintandgeneseechamber.org/events/details/first-fridays-at-longway-planetarium-50-years-of-discovery-9726
END:VEVENT

END:VCALENDAR
