BEGIN:VCALENDAR
VERSION:2.0
PRODID:-//ChamberMaster//Event Calendar 2.0//EN
METHOD:PUBLISH
X-PUBLISHED-TTL:P3D
REFRESH-INTERVAL:P3D
CALSCALE:GREGORIAN
BEGIN:VEVENT
DTSTART:20140712T200000Z
DTEND:20140713T020000Z
X-MICROSOFT-CDO-ALLDAYEVENT:FALSE
SUMMARY:Flint Buckham Alley Fest
DESCRIPTION:Come be a part of this 4th annual downtown event featuring 10 bands on 2 stages\, dancing\, crafts\, food & drinks\, street performers and more. For more information and a line-up of musical acts visit www.buckhamalleyfest.com.
X-ALT-DESC;FMTTYPE=text/html:Come be a part of this 4th annual downtown event featuring 10 bands on 2 stages\, dancing\, crafts\, food &amp\; drinks\, street performers and more. For more information and a line-up of musical acts visit <a title="Buckham Alley Fest" href="http://www.buckhamalleyfest.com/" target="_blank">www.buckhamalleyfest.com</a>.
LOCATION:Downtown Flint in Buckham Alley Buckham Alley Flint Michigan
UID:e.2606.1079
SEQUENCE:3
DTSTAMP:20260421T085016Z
URL:https://members.flintandgeneseechamber.org/events/details/flint-buckham-alley-fest-07-12-2014-1079
END:VEVENT

END:VCALENDAR
