BEGIN:VCALENDAR
VERSION:2.0
PRODID:-//ChamberMaster//Event Calendar 2.0//EN
METHOD:PUBLISH
X-PUBLISHED-TTL:P3D
REFRESH-INTERVAL:P3D
CALSCALE:GREGORIAN
BEGIN:VEVENT
DTSTART:20190612T230000Z
DTEND:20190613T010000Z
X-MICROSOFT-CDO-ALLDAYEVENT:FALSE
SUMMARY:Flint City Bucks USL League Two - Pre-Professional Soccer Game
DESCRIPTION:Flint's new USL League Two\, the Flint City Bucks\, will play against the Dayton Dutch Lions. The Flint City Bucks is part of the USL League Two Pre-Professional Soccer in the U.S. and Canada and provides the elite platform for those pursuing professional soccer careers domestically and internationally. For more information and a schedule of Flint home games visit flintcitybucks.com.
X-ALT-DESC;FMTTYPE=text/html:Flint&#39\;s new USL League Two\, the Flint City Bucks\, will play against the Dayton Dutch Lions. The Flint City Bucks is part of the USL League Two Pre-Professional Soccer in the U.S. and Canada and provides the elite platform for those pursuing professional soccer careers domestically and internationally. For more information and a schedule of Flint home games visit <a href="https://www.flintcitybucks.com/" target="_blank">flintcitybucks.com</a>.&nbsp\;
LOCATION:Atwood Stadium at Kettering University 701 University Avenue Flint\, MI 48503
UID:e.2606.9222
SEQUENCE:3
DTSTAMP:20260421T083737Z
URL:https://members.flintandgeneseechamber.org/events/details/flint-city-bucks-usl-league-two-pre-professional-soccer-game-9222
END:VEVENT

END:VCALENDAR
