BEGIN:VCALENDAR
VERSION:2.0
PRODID:-//ChamberMaster//Event Calendar 2.0//EN
METHOD:PUBLISH
X-PUBLISHED-TTL:P3D
REFRESH-INTERVAL:P3D
CALSCALE:GREGORIAN
BEGIN:VEVENT
DTSTART:20140426T230000Z
DTEND:20140427T010000Z
X-MICROSOFT-CDO-ALLDAYEVENT:FALSE
SUMMARY:Flint City Derby Girls
DESCRIPTION:Experience full-contact\, aggressive\, fast-paced\, fun and exciting flat-track roller derby as the Flint City Derby Girls take on the Southern Belles. For details\, ticket information and a schedule of upcoming games visit www.flintcityderbygirls.com.
X-ALT-DESC;FMTTYPE=text/html:Experience full-contact\, aggressive\, fast-paced\, fun and exciting flat-track roller derby as the Flint City Derby Girls take on the Southern Belles. For details\, ticket information and a schedule of upcoming games visit <a title="Flint City Derby Girls" href="http://www.flintcityderbygirls.org/" target="_blank">www.flintcityderbygirls.com</a>.\n\n&nbsp\;
LOCATION:Perani Arena & Event Center 3501 Lapeer Road Flint Michigan
UID:e.2606.888
SEQUENCE:3
DTSTAMP:20260421T112526Z
URL:https://members.flintandgeneseechamber.org/events/details/flint-city-derby-girls-04-26-2014-888
END:VEVENT

END:VCALENDAR
