BEGIN:VCALENDAR
VERSION:2.0
PRODID:-//ChamberMaster//Event Calendar 2.0//EN
METHOD:PUBLISH
X-PUBLISHED-TTL:P3D
REFRESH-INTERVAL:P3D
CALSCALE:GREGORIAN
BEGIN:VEVENT
DTSTART:20140307T010000Z
DTEND:20140309T030000Z
X-MICROSOFT-CDO-ALLDAYEVENT:FALSE
SUMMARY:Flint Community Players Presents ''You Can't Take It With You''
DESCRIPTION:Escape for a quiet dinner and conversation (NOT) with the folks that make the Addams Family and the Munster's seem tame-the Sycamores! Enjoy this most delightful\, topsy-turvy\, tongue-in-cheek classic comedy with side-splitting sight gags\, crackpot characters and immeasurable moments of lunacy and laughter. For details\, ticket information and a schedule of upcoming shows visit www.flintcommunityplayers.com.
X-ALT-DESC;FMTTYPE=text/html:Escape for a quiet dinner and conversation (NOT) with the folks that make the Addams Family and the Munster's seem tame-the Sycamores! Enjoy this most delightful\, topsy-turvy\, tongue-in-cheek classic comedy with side-splitting sight gags\, crackpot characters and immeasurable moments of lunacy and laughter. For details\, ticket information and a schedule of upcoming shows visit <a title="The Flint Community Players" href="http://www.flintcommunityplayers.com/" target="_blank">www.flintcommunityplayers.com</a>.\n\n&nbsp\;
LOCATION:The Flint Community Players 2462 Ballenger Hwy Flint Michigan 48507
UID:e.2606.799
SEQUENCE:3
DTSTAMP:20260421T131535Z
URL:https://members.flintandgeneseechamber.org/events/details/flint-community-players-presents-you-can-t-take-it-with-you-03-06-2014-799
END:VEVENT

END:VCALENDAR
