BEGIN:VCALENDAR
VERSION:2.0
PRODID:-//ChamberMaster//Event Calendar 2.0//EN
METHOD:PUBLISH
X-PUBLISHED-TTL:P3D
REFRESH-INTERVAL:P3D
CALSCALE:GREGORIAN
BEGIN:VEVENT
DTSTART:20140802T160000Z
DTEND:20140803T010000Z
X-MICROSOFT-CDO-ALLDAYEVENT:FALSE
SUMMARY:Flint Drop Fest
DESCRIPTION:Enjoy this 3rd annual electronic music festival featuring 3 stages of entertainment at Flint's U-of-M Pavilion Ice Rink\, the Rutherford parking ramp and the Riverbank Park Amphitheater. For more information and a schedule of musical entertainment visit www.facebook.com.
X-ALT-DESC;FMTTYPE=text/html:Enjoy this 3rd annual electronic music festival featuring 3 stages of entertainment at Flint's U-of-M Pavilion Ice Rink\, the Rutherford parking ramp and the Riverbank Park Amphitheater. For more information and a schedule of musical entertainment visit <a title="Flint Drop Fest " href="https://www.facebook.com/events/1468529713359333/?ref=br_tf" target="_blank">www.facebook.com</a>.
LOCATION:Downtown Flint on Saginaw Street Saginaw Street Flint 48502
UID:e.2606.1086
SEQUENCE:3
DTSTAMP:20260421T113747Z
URL:https://members.flintandgeneseechamber.org/events/details/flint-drop-fest-08-02-2014-1086
END:VEVENT

END:VCALENDAR
