BEGIN:VCALENDAR
VERSION:2.0
PRODID:-//ChamberMaster//Event Calendar 2.0//EN
METHOD:PUBLISH
X-PUBLISHED-TTL:P3D
REFRESH-INTERVAL:P3D
CALSCALE:GREGORIAN
BEGIN:VEVENT
DTSTART:20140726T170000Z
DTEND:20140727T003000Z
X-MICROSOFT-CDO-ALLDAYEVENT:FALSE
SUMMARY:Flint Folk Music Festival
DESCRIPTION:Enjoy the 15th annual Flint Folk Music Festival featuring Stella\, Matt Watroba and Rev. Robert Jones\, Ukulele Kings\, Suzanne and Jim and Mustard's Retreat. There will also be a concession tent\, 50-50 raffle\, a Ukulele workshop\, a Steve Rodgers Jam tent and more. Free admission. For more information visit www.flintfolkmusic.org.
X-ALT-DESC;FMTTYPE=text/html:Enjoy the 15th annual Flint Folk Music Festival featuring Stella\, Matt Watroba and Rev. Robert Jones\, Ukulele Kings\, Suzanne and Jim and Mustard's Retreat. There will also be a concession tent\, 50-50 raffle\, a Ukulele workshop\, a Steve Rodgers Jam tent and more. Free admission. For more information visit <a title="Flint Folk Music Festival " href="http://www.flintfolkmusic.org/2014Concerts.htm" target="_blank">www.flintfolkmusic.org</a>.
LOCATION:Kearsley Park 900-971 Kearsley Park Blvd Flint Michigan
UID:e.2606.1082
SEQUENCE:3
DTSTAMP:20260421T085403Z
URL:https://members.flintandgeneseechamber.org/events/details/flint-folk-music-festival-07-26-2014-1082
END:VEVENT

END:VCALENDAR
