BEGIN:VCALENDAR
VERSION:2.0
PRODID:-//ChamberMaster//Event Calendar 2.0//EN
METHOD:PUBLISH
X-PUBLISHED-TTL:P3D
REFRESH-INTERVAL:P3D
CALSCALE:GREGORIAN
BEGIN:VEVENT
DTSTART:20140227T213000Z
DTEND:20140227T233000Z
X-MICROSOFT-CDO-ALLDAYEVENT:FALSE
SUMMARY:Flint & Genesee Chamber of Commerce Open House
DESCRIPTION:Please join us for an open house and a tour of our new offices.\n\nBe sure to visit select Downtown Flint restaurants for a 10% discount off your meal (alcoholic beverages excluded). A list of participating restaurants will be available at the Open House.\n\nCost: Free\, registration required. Open to the public.\n\nParking available in the Kearsley Street Flat Lot or the Rutherford Parking Ramp on the corner of Kearsley and Beach streets.
X-ALT-DESC;FMTTYPE=text/html:Please join us for an open house and a tour of our new offices.\n\nBe sure to visit select Downtown Flint restaurants for a 10% discount off your meal <em>(alcoholic beverages excluded)</em>. A list of participating restaurants will be available at the Open House.\n\n<strong>Cost:</strong> Free\, registration required. Open to the public.\n\nParking available in the Kearsley Street Flat Lot or the Rutherford Parking Ramp on the corner of Kearsley and Beach streets.
LOCATION:Flint & Genesee Chamber of Commerce 519 S. Saginaw St. Flint MI 48502
UID:e.2606.793
SEQUENCE:3
DTSTAMP:20260421T142822Z
URL:https://members.flintandgeneseechamber.org/events/details/flint-genesee-chamber-of-commerce-open-house-02-27-2014-793
END:VEVENT

END:VCALENDAR
