BEGIN:VCALENDAR
VERSION:2.0
PRODID:-//ChamberMaster//Event Calendar 2.0//EN
METHOD:PUBLISH
X-PUBLISHED-TTL:P3D
REFRESH-INTERVAL:P3D
CALSCALE:GREGORIAN
BEGIN:VEVENT
DTSTART:20131212T130000Z
DTEND:20131212T150000Z
X-MICROSOFT-CDO-ALLDAYEVENT:FALSE
SUMMARY:Flint & Genesee Chamber of Commerce Roundtable - EnerCom. Inc
DESCRIPTION:The Flint and Genesee Chamber Roundtable will have EnerCom. Inc as its featured member.
X-ALT-DESC;FMTTYPE=text/html:The Flint and Genesee Chamber Roundtable will have EnerCom. Inc as its featured member.
LOCATION:Flint & Genesee Chamber of Commerce 519 S. Saginaw St. Flint MI 48502
UID:e.2606.486
SEQUENCE:3
DTSTAMP:20260421T171518Z
URL:https://members.flintandgeneseechamber.org/events/details/flint-genesee-chamber-of-commerce-roundtable-enercom-inc-12-12-2013-486
END:VEVENT

END:VCALENDAR
