BEGIN:VCALENDAR
VERSION:2.0
PRODID:-//ChamberMaster//Event Calendar 2.0//EN
METHOD:PUBLISH
X-PUBLISHED-TTL:P3D
REFRESH-INTERVAL:P3D
CALSCALE:GREGORIAN
BEGIN:VEVENT
DTSTART:20140109T130000Z
DTEND:20140109T150000Z
X-MICROSOFT-CDO-ALLDAYEVENT:FALSE
SUMMARY:Flint & Genesee Chamber of Commerce Roundtable - Metro Trading Association
DESCRIPTION:The Flint & Genesee Chamber Roundtable will have Metro Trading Association as its featured member.
X-ALT-DESC;FMTTYPE=text/html:The Flint &amp\; Genesee Chamber Roundtable will have Metro Trading Association as its featured member.
LOCATION:Flint & Genesee Chamber of Commerce 519 S. Saginaw St. Flint MI 48502
UID:e.2606.487
SEQUENCE:3
DTSTAMP:20260421T160323Z
URL:https://members.flintandgeneseechamber.org/events/details/flint-genesee-chamber-of-commerce-roundtable-metro-trading-association-01-09-2014-487
END:VEVENT

END:VCALENDAR
