BEGIN:VCALENDAR
VERSION:2.0
PRODID:-//ChamberMaster//Event Calendar 2.0//EN
METHOD:PUBLISH
X-PUBLISHED-TTL:P3D
REFRESH-INTERVAL:P3D
CALSCALE:GREGORIAN
BEGIN:VEVENT
DTSTART:20130912T120000Z
DTEND:20130912T140000Z
X-MICROSOFT-CDO-ALLDAYEVENT:FALSE
SUMMARY:Flint & Genesee Chamber of Commerce Roundtable - MLive -The Flint Journal
DESCRIPTION:The Flint and Genesee Roundtable event will be held at MLive - The Flint Journal.\n\nMLive - The Flint Journal will be the featured member.
X-ALT-DESC;FMTTYPE=text/html:The Flint and Genesee Roundtable event will be held at MLive - The Flint Journal.\n\nMLive - The Flint Journal will be the featured member.
LOCATION:MLive / Flint Jounal 540 S. Saginaw St. Flint MI 48502
UID:e.2606.483
SEQUENCE:3
DTSTAMP:20260421T220433Z
URL:https://members.flintandgeneseechamber.org/events/details/flint-genesee-chamber-of-commerce-roundtable-mlive-the-flint-journal-09-12-2013-483
END:VEVENT

END:VCALENDAR
