BEGIN:VCALENDAR
VERSION:2.0
PRODID:-//ChamberMaster//Event Calendar 2.0//EN
METHOD:PUBLISH
X-PUBLISHED-TTL:P3D
REFRESH-INTERVAL:P3D
CALSCALE:GREGORIAN
BEGIN:VEVENT
DTSTART:20131010T120000Z
DTEND:20131010T140000Z
X-MICROSOFT-CDO-ALLDAYEVENT:FALSE
SUMMARY:Flint & Genesee Chamber of Commerce Roundtable - Riegle Press
DESCRIPTION:The Flint & Genesee Chamber Roundtable event will have Riegle Press as the featured member.
X-ALT-DESC;FMTTYPE=text/html:The Flint &amp\; Genesee Chamber Roundtable event will have Riegle Press as the featured member.
LOCATION:Flint & Genesee Chamber of Commerce 519 S. Saginaw St. Flint MI 48502
UID:e.2606.484
SEQUENCE:3
DTSTAMP:20260421T202928Z
URL:https://members.flintandgeneseechamber.org/events/details/flint-genesee-chamber-of-commerce-roundtable-riegle-press-10-10-2013-484
END:VEVENT

END:VCALENDAR
