BEGIN:VCALENDAR
VERSION:2.0
PRODID:-//ChamberMaster//Event Calendar 2.0//EN
METHOD:PUBLISH
X-PUBLISHED-TTL:P3D
REFRESH-INTERVAL:P3D
CALSCALE:GREGORIAN
BEGIN:VEVENT
DTSTART:20131114T130000Z
DTEND:20131114T150000Z
X-MICROSOFT-CDO-ALLDAYEVENT:FALSE
SUMMARY:Flint & Genesee Chamber of Commerce Roundtable - Stewart & Associates/Minder Planning Group
DESCRIPTION:The Flint & Genesee Chamber Roundtable event will have Stewart & Associates and Minder Planning Group as the featured members.
X-ALT-DESC;FMTTYPE=text/html:The Flint &amp\; Genesee Chamber Roundtable event will have Stewart &amp\; Associates and Minder Planning Group as the featured members.
LOCATION:Flint & Genesee Chamber of Commerce 519 S. Saginaw St. Flint MI 48502
UID:e.2606.485
SEQUENCE:3
DTSTAMP:20260421T190625Z
URL:https://members.flintandgeneseechamber.org/events/details/flint-genesee-chamber-of-commerce-roundtable-stewart-associates-minder-planning-group-11-14-2013-485
END:VEVENT

END:VCALENDAR
