BEGIN:VCALENDAR
VERSION:2.0
PRODID:-//ChamberMaster//Event Calendar 2.0//EN
METHOD:PUBLISH
X-PUBLISHED-TTL:P3D
REFRESH-INTERVAL:P3D
CALSCALE:GREGORIAN
BEGIN:VEVENT
DTSTART:20140124T233000Z
DTEND:20140125T020000Z
X-MICROSOFT-CDO-ALLDAYEVENT:FALSE
SUMMARY:Flint & Genesee Chamber of Commerce Young Professionals
DESCRIPTION:Join our Young Professional Group as they host a Membership Drive at B's Bowling on Friday January 24th. @ 6:30pm.\n\nCome find out about the exciting new changes to the Flint & Genesee Chamber of Commerce Young Professionals Group. Pizza\, popcorn\, pop provided (cash bar available). Give-aways and 50/50 raffle.  Registration is not required.\n\nClick on the flyer for more information.\n\n \n\nmembershipDrive flyer
X-ALT-DESC;FMTTYPE=text/html:Join our Young Professional Group as they host a Membership Drive at B's Bowling on Friday January 24th. @ 6:30pm.\n\nCome find out about the exciting new changes to the Flint &amp\; Genesee Chamber of Commerce Young Professionals Group. Pizza\, popcorn\, pop provided (cash bar available). Give-aways and 50/50 raffle.  Registration is not required.\n\nClick on the flyer for more information.\n\n&nbsp\;\n\n<a href="http://www.flintandgenesee.org/wp-content/uploads/2014/01/membershipDrive-flyer.pdf">membershipDrive flyer</a>
LOCATION:
UID:e.2606.786
SEQUENCE:3
DTSTAMP:20260421T160204Z
URL:https://members.flintandgeneseechamber.org/events/details/flint-genesee-chamber-of-commerce-young-professionals-01-24-2014-786
END:VEVENT

END:VCALENDAR
