BEGIN:VCALENDAR
VERSION:2.0
PRODID:-//ChamberMaster//Event Calendar 2.0//EN
METHOD:PUBLISH
X-PUBLISHED-TTL:P3D
REFRESH-INTERVAL:P3D
CALSCALE:GREGORIAN
BEGIN:VEVENT
DTSTART:20140203T223000Z
DTEND:20140203T233000Z
X-MICROSOFT-CDO-ALLDAYEVENT:FALSE
SUMMARY:Flint & Genesee Chamber of Commerce Young Professionals
DESCRIPTION:Our Young Professionals group will hold it's monthly meeting at the 501 Bar & Grill.\n\n500 S. Saginaw Street\, Flint. 810-410-4406. On the corner of 1st & Saginaw Street.\n\n \n\nQuestions? Please call Susana Wight @ 810-600-1408.
X-ALT-DESC;FMTTYPE=text/html:Our Young Professionals group will hold it's monthly meeting at the 501 Bar &amp\; Grill.\n\n500 S. Saginaw Street\, Flint. 810-410-4406. On the corner of 1st &amp\; Saginaw Street.\n\n&nbsp\;\n\nQuestions? Please call Susana Wight @ 810-600-1408.
LOCATION:501 Bar & Grill 500 S. Saginaw Street Flint MI
UID:e.2606.777
SEQUENCE:3
DTSTAMP:20260421T143045Z
URL:https://members.flintandgeneseechamber.org/events/details/flint-genesee-chamber-of-commerce-young-professionals-02-03-2014-777
END:VEVENT

END:VCALENDAR
