BEGIN:VCALENDAR
VERSION:2.0
PRODID:-//ChamberMaster//Event Calendar 2.0//EN
METHOD:PUBLISH
X-PUBLISHED-TTL:P3D
REFRESH-INTERVAL:P3D
CALSCALE:GREGORIAN
BEGIN:VEVENT
DTSTART:20131204T183000Z
DTEND:20131204T193000Z
X-MICROSOFT-CDO-ALLDAYEVENT:FALSE
SUMMARY:Flint & Genesee Contract Opportunities 5.0 in Flint
DESCRIPTION:Meet with the Purchasing Departments at the local level to resolve their needs. This is part of  the Procurement and Technical Assistance Center (PTAC) of the Flint & Genesee Chamber of Commerce’s five-course series that will develop your skills in the government marketplace. At the end of the training curriculum you will receive a certification of completion in government contracting.\n\nTo register: Contact Chelsea Schutz at (810) 600-1437 or ptac@flintandgenesee.org.
X-ALT-DESC;FMTTYPE=text/html:Meet with the Purchasing Departments at the local level to resolve their needs. This is part of  the Procurement and Technical Assistance Center (PTAC) of the Flint &amp\; Genesee Chamber of Commerce’s five-course series that will develop your skills in the government marketplace. At the end of the training curriculum you will receive a certification of completion in government contracting.\n\n<strong>To register:</strong> Contact Chelsea Schutz at (810) 600-1437 or <a href="mailto:ptac@flintandgenesee.org">ptac@flintandgenesee.org</a>.
LOCATION:Flint & Genesee Chamber of Commerce 519 S. Saginaw St. Flint MI 48502
UID:e.2606.449
SEQUENCE:3
DTSTAMP:20260421T171434Z
URL:https://members.flintandgeneseechamber.org/events/details/flint-genesee-contract-opportunities-5-0-in-flint-12-04-2013-449
END:VEVENT

END:VCALENDAR
