BEGIN:VCALENDAR
VERSION:2.0
PRODID:-//ChamberMaster//Event Calendar 2.0//EN
METHOD:PUBLISH
X-PUBLISHED-TTL:P3D
REFRESH-INTERVAL:P3D
CALSCALE:GREGORIAN
BEGIN:VEVENT
DTSTART:20131130T150000Z
DTEND:20131130T210000Z
X-MICROSOFT-CDO-ALLDAYEVENT:FALSE
SUMMARY:Flint HandMade ''Holiday Craft Market Show''
DESCRIPTION:This Holiday Craft Market features over 45  juried vendors with a large variety of unique\, modern handmade items such as original illustrations\, screen-printed shirts for adults and kids\, reconstructed jewelry\, knit and crocheted goods\, hand-poured candles\, natural bath and beauty products\, plush toys and much more. The first 25 shoppers of the day receive free goodie bags filled with vendor coupons\, merchandise and other treats. The Temple Dining Room\, inside The Masonic Temple\, is open for sit-down and take-out lunches during the show. For details visit www.flinthandmade.org.
X-ALT-DESC;FMTTYPE=text/html:This Holiday Craft Market features over 45  juried vendors with a large variety of unique\, modern handmade items such as original illustrations\, screen-printed shirts for adults and kids\, reconstructed jewelry\, knit and crocheted goods\, hand-poured candles\, natural bath and beauty products\, plush toys and much more. The first 25 shoppers of the day receive free goodie bags filled with vendor coupons\, merchandise and other treats. The Temple Dining Room\, inside The Masonic Temple\, is open for sit-down and take-out lunches during the show. For details visit <a title="Flint HandMade" href="http://www.flinthandmade.org/" target="_blank">www.flinthandmade.org</a>.
LOCATION:The Masonic Temple in Downtown Flint 755 S. Saginaw Street Flint Michigan
UID:e.2606.118
SEQUENCE:3
DTSTAMP:20260421T185354Z
URL:https://members.flintandgeneseechamber.org/events/details/flint-handmade-holiday-craft-market-show-11-30-2013-118
END:VEVENT

END:VCALENDAR
