BEGIN:VCALENDAR
VERSION:2.0
PRODID:-//ChamberMaster//Event Calendar 2.0//EN
METHOD:PUBLISH
X-PUBLISHED-TTL:P3D
REFRESH-INTERVAL:P3D
CALSCALE:GREGORIAN
BEGIN:VEVENT
DTSTART:20140503T140000Z
DTEND:20140503T200000Z
X-MICROSOFT-CDO-ALLDAYEVENT:FALSE
SUMMARY:Flint Handmade Spring Craft Market
DESCRIPTION:This Spring Market features 50 or so unique vendors selling a variety of crafts including bags\, jewelry\, stuffed animals\, accessories\, bath products\, artwork and much more. For more information visit www.flinthandmade.org.
X-ALT-DESC;FMTTYPE=text/html:This Spring Market features 50 or so unique vendors selling a variety of crafts including bags\, jewelry\, stuffed animals\, accessories\, bath products\, artwork and much more. For more information visit<a title="Flint Hand Made" href="http://flinthandmade.org/" target="_blank"> www.flinthandmade.org</a>.\n\n&nbsp\;
LOCATION:The Masonic Temple in Downtown Flint 755 S. Saginaw Street Flint Michigan
UID:e.2606.818
SEQUENCE:3
DTSTAMP:20260421T101602Z
URL:https://members.flintandgeneseechamber.org/events/details/flint-handmade-spring-craft-market-05-03-2014-818
END:VEVENT

END:VCALENDAR
