BEGIN:VCALENDAR
VERSION:2.0
PRODID:-//ChamberMaster//Event Calendar 2.0//EN
METHOD:PUBLISH
X-PUBLISHED-TTL:P3D
REFRESH-INTERVAL:P3D
CALSCALE:GREGORIAN
BEGIN:VEVENT
DTSTART:20130802T213000Z
DTEND:20130805T003000Z
X-MICROSOFT-CDO-ALLDAYEVENT:FALSE
SUMMARY:Flint Jazz Festival
DESCRIPTION:Enjoy the smooth sounds of regional and national musicians along with food vendors\, arts and crafts and more. Festival hours run Friday from 5:30 p.m. to 8:30 p.m. and Saturday and Sunday from 2:30 p.m. to 8:30 p.m. For a detailed schedule of activities visit www.geneseefun.com.
X-ALT-DESC;FMTTYPE=text/html:Enjoy the smooth sounds of regional and national musicians along with food vendors\, arts and crafts and more. Festival hours run Friday from 5:30 p.m. to 8:30 p.m. and Saturday and Sunday from 2:30 p.m. to 8:30 p.m. For a detailed schedule of activities visit <a href="http://www.geneseefun.com/" target="_blank">www.geneseefun.com</a>.
LOCATION:Riverbank Park in Downtown Flint Riverbank Park Flint Michigan
UID:e.2606.113
SEQUENCE:3
DTSTAMP:20260421T233834Z
URL:https://members.flintandgeneseechamber.org/events/details/flint-jazz-festival-08-02-2013-113
END:VEVENT

END:VCALENDAR
