BEGIN:VCALENDAR
VERSION:2.0
PRODID:-//ChamberMaster//Event Calendar 2.0//EN
METHOD:PUBLISH
X-PUBLISHED-TTL:P3D
REFRESH-INTERVAL:P3D
CALSCALE:GREGORIAN
BEGIN:VEVENT
DTSTART:20140719T140000Z
DTEND:20140719T210000Z
X-MICROSOFT-CDO-ALLDAYEVENT:FALSE
SUMMARY:Flint's BBQ Battle
DESCRIPTION:Dort Federal Credit Union presents the annual BBQ Battle from 10 a.m. to 5 p.m. - with winners being announced at 4:30 p.m. Come sample and vote for the best BBQ from several professional BBQ experts. Contestants will be judged on their BBQ ribs by certified\, celebrity judges. For details and a schedule of upcoming events visit www.flintfarmersmarket.com.
X-ALT-DESC;FMTTYPE=text/html:Dort Federal Credit Union presents the annual BBQ Battle from 10 a.m. to 5 p.m. - with winners being announced at 4:30 p.m. Come sample and vote for the best BBQ from several professional BBQ experts. Contestants will be judged on their BBQ ribs by certified\, celebrity judges. For details and a schedule of upcoming events visit <a title="BBQ Battle " href="http://flintfarmersmarket.com/" target="_blank">www.flintfarmersmarket.com</a>.
LOCATION:Flint Farmers' Market 300 E. First Street Flint Michigan 48502
UID:e.2606.1081
SEQUENCE:3
DTSTAMP:20260421T084547Z
URL:https://members.flintandgeneseechamber.org/events/details/flint-s-bbq-battle-07-19-2014-1081
END:VEVENT

END:VCALENDAR
