BEGIN:VCALENDAR
VERSION:2.0
PRODID:-//ChamberMaster//Event Calendar 2.0//EN
METHOD:PUBLISH
X-PUBLISHED-TTL:P3D
REFRESH-INTERVAL:P3D
CALSCALE:GREGORIAN
BEGIN:VEVENT
DTSTART:20130627T210000Z
DTEND:20130628T030000Z
X-MICROSOFT-CDO-ALLDAYEVENT:FALSE
SUMMARY:Flint's Monthly ''Jazz Walk''
DESCRIPTION:Stroll Flint's numerous downtown clubs while listening to highly talented Jazz musicians. A food menu is available at most locations. Just look for the "Jazz Walk" sign in front of participating Flint hotspots.
X-ALT-DESC;FMTTYPE=text/html:Stroll Flint's numerous downtown clubs while listening to highly talented Jazz musicians. A food menu is available at most locations. Just look for the "Jazz Walk" sign in front of participating Flint hotspots.
LOCATION:Flint's Downtown Entertainment District Saginaw Street Flint Michigan
UID:e.2606.224
SEQUENCE:3
DTSTAMP:20260422T023247Z
URL:https://members.flintandgeneseechamber.org/events/details/flint-s-monthly-jazz-walk-06-27-2013-224
END:VEVENT

END:VCALENDAR
