BEGIN:VCALENDAR
VERSION:2.0
PRODID:-//ChamberMaster//Event Calendar 2.0//EN
METHOD:PUBLISH
X-PUBLISHED-TTL:P3D
REFRESH-INTERVAL:P3D
CALSCALE:GREGORIAN
BEGIN:VEVENT
DTSTART:20140520T213000Z
DTEND:20140520T233000Z
X-MICROSOFT-CDO-ALLDAYEVENT:FALSE
SUMMARY:Flint Social Entrepreneur Meet and Greet
DESCRIPTION:Looking to connect with individuals in Flint who are bettering the community throught business ideas?  Join us Tuesday\, May 20th for our second Flint Social Entrepreneur meet and greet event from 5:30 - 7:30 pm at IINN at 4800 S. Saginaw Street.  Saginaw near Hemphill.   This event is free\, but registration is required\n\nThe Social Entrepreneurship Challenge offers $60\,000 in prizes to learn more go to: http://michigancorps.org/thechallenge
X-ALT-DESC;FMTTYPE=text/html:Looking to connect with individuals in Flint who are bettering the community throught business ideas?  Join us Tuesday\, May 20th for our second Flint Social Entrepreneur meet and greet event from 5:30 - 7:30 pm at IINN at 4800 S. Saginaw Street.  Saginaw near Hemphill.   This event is free\, but registration is required\n\nThe Social Entrepreneurship Challenge offers $60\,000 in prizes to learn more go to: <a href="http://michigancorps.org/thechallenge">http://michigancorps.org/thechallenge</a>  \n\n&nbsp\;
LOCATION:
UID:e.2606.1004
SEQUENCE:3
DTSTAMP:20260421T102424Z
URL:https://members.flintandgeneseechamber.org/events/details/flint-social-entrepreneur-meet-and-greet-05-20-2014-1004
END:VEVENT

END:VCALENDAR
