BEGIN:VCALENDAR
VERSION:2.0
PRODID:-//ChamberMaster//Event Calendar 2.0//EN
METHOD:PUBLISH
X-PUBLISHED-TTL:P3D
REFRESH-INTERVAL:P3D
CALSCALE:GREGORIAN
BEGIN:VEVENT
DTSTART:20140425T153000Z
DTEND:20140425T173000Z
X-MICROSOFT-CDO-ALLDAYEVENT:FALSE
SUMMARY:Flint Women's Forum Annual ''Celebration of Women''
DESCRIPTION:Join the Flint Women's Forum for our Annual "Celebration of Women" at the Flint Golf Club featuring Michelle Becker Mueller\, Third Generation owner of  Becker's Bridal and "The Magic Room"\n\nFor more information\, click here.
X-ALT-DESC;FMTTYPE=text/html:Join the Flint Women's Forum for our Annual "Celebration of Women" at the Flint Golf Club featuring Michelle Becker Mueller\, Third Generation owner of  Becker's Bridal and "The Magic Room"\n\nFor more information\, click <a href="http://events.r20.constantcontact.com/register/event\;jsessionid=B31073D0290C567377C420C872DB71C7.worker_registrant?llr=jnjp6mkab&amp\;oeidk=a07e91l7pu25d3c3def" target="_blank">here</a>.\n\n&nbsp\;\n\n&nbsp\;\n\n&nbsp\;
LOCATION:Flint Golf Club 3100 Lakewood Drive Flint MI 48507
UID:e.2606.864
SEQUENCE:3
DTSTAMP:20260421T114255Z
URL:https://members.flintandgeneseechamber.org/events/details/flint-women-s-forum-annual-celebration-of-women-04-25-2014-864
END:VEVENT

END:VCALENDAR
