BEGIN:VCALENDAR
VERSION:2.0
PRODID:-//ChamberMaster//Event Calendar 2.0//EN
METHOD:PUBLISH
X-PUBLISHED-TTL:P3D
REFRESH-INTERVAL:P3D
CALSCALE:GREGORIAN
BEGIN:VEVENT
DTSTART:20140617T153000Z
DTEND:20140617T173000Z
X-MICROSOFT-CDO-ALLDAYEVENT:FALSE
SUMMARY:Flint Women's Forum - June 17\, 2014 Membership Luncheon
DESCRIPTION:The Flint Women's Forum brings together women of professional achievement and influence in the community through educational programs and the exchange of ideas\, experiences and resources.\n\nPlease join us for our next membership luncheon on June 17\, 2014 at the Flint Golf Club - 3100 Lakewood Dr.\, Flint\, 48507.  Registration starts at 11:30 a.m. and the meeting is from 12:00 p.m. - 1:30 p.m.  Our speaker is Susan Marsh from General Motors.  Come out and test drive and see what General Motors has to offer with their new line of vehicles.\n\nCost: $20 for members\, $20 for guests.  First time guests are free.  To register for this event\, please visit our website at http://flintwomensforum.org/\n\nFor more information on how to become a member of the Flint Women's Forum\, please visit our website at http://flintwomensforum.org/
X-ALT-DESC;FMTTYPE=text/html:The Flint Women's Forum brings together women of professional achievement and influence in the community through educational programs and the exchange of ideas\, experiences and resources.\n\nPlease join us for our next membership luncheon on June 17\, 2014 at the Flint Golf Club - 3100 Lakewood Dr.\, Flint\, 48507.  Registration starts at 11:30 a.m. and the meeting is from 12:00 p.m. - 1:30 p.m.  Our speaker is Susan Marsh from General Motors.  Come out and test drive and see what General Motors has to offer with their new line of vehicles.\n\nCost: $20 for members\, $20 for guests.  First time guests are free.  To register for this event\, please visit our website at <a href="http://flintwomensforum.org/">http://flintwomensforum.org/</a>\n\nFor more information on how to become a member of the Flint Women's Forum\, please visit our website at <a href="http://flintwomensforum.org/">http://flintwomensforum.org/</a>
LOCATION:Flint Golf Club 3100 Lakewood Drive Flint MI 48507
UID:e.2606.1028
SEQUENCE:3
DTSTAMP:20260421T083635Z
URL:https://members.flintandgeneseechamber.org/events/details/flint-women-s-forum-june-17-2014-membership-luncheon-06-17-2014-1028
END:VEVENT

END:VCALENDAR
