BEGIN:VCALENDAR
VERSION:2.0
PRODID:-//ChamberMaster//Event Calendar 2.0//EN
METHOD:PUBLISH
X-PUBLISHED-TTL:P3D
REFRESH-INTERVAL:P3D
CALSCALE:GREGORIAN
BEGIN:VEVENT
DTSTART:20140405T183000Z
DTEND:20140406T193000Z
X-MICROSOFT-CDO-ALLDAYEVENT:FALSE
SUMMARY:Flint Youth Theatre Presents ''Jackie & Me''
DESCRIPTION:Ever wanted to travel back in time? Who would you travel back to meet if you could? Well\, Joey can\, and he's headed back to 1947\, the year baseball legend Jackie Robinson broke a mighty big barrier. Enjoy a conversation with the creative team following Saturday's performance. For details\, ticket information and a schedule of upcoming shows visit www.thefim.org.
X-ALT-DESC;FMTTYPE=text/html:Ever wanted to travel back in time? Who would you travel back to meet if you could? Well\, Joey can\, and he's headed back to 1947\, the year baseball legend Jackie Robinson broke a mighty big barrier. Enjoy a conversation with the creative team following Saturday's performance. For details\, ticket information and a schedule of upcoming shows visit <a title="Flint Youth Theatre" href="http://www.thefim.org/" target="_blank">www.thefim.org</a>.
LOCATION:Flint Youth Theatre 1220 E. Kearsley Street Flint Michigan
UID:e.2606.594
SEQUENCE:3
DTSTAMP:20260421T114029Z
URL:https://members.flintandgeneseechamber.org/events/details/flint-youth-theatre-presents-jackie-me-04-05-2014-594
END:VEVENT

END:VCALENDAR
