BEGIN:VCALENDAR
VERSION:2.0
PRODID:-//ChamberMaster//Event Calendar 2.0//EN
METHOD:PUBLISH
X-PUBLISHED-TTL:P3D
REFRESH-INTERVAL:P3D
CALSCALE:GREGORIAN
BEGIN:VEVENT
DTSTART:20140404T230000Z
DTEND:20140405T010000Z
X-MICROSOFT-CDO-ALLDAYEVENT:FALSE
SUMMARY:Flint Youth Theatre Presents ''The Monster Who Ate My Peas''
DESCRIPTION:Enjoy this new musical about a young boy who tries to make a deal with a monster to eat his peas. But\, when the monster raises the stakes\, will the boy make the difficult decision to face his own fears? Best suited for ages 3 and up and is a great first step in a life-long journey of celebrating the arts. For details\, ticket information and a schedule of upcoming shows visit www.fim.org.
X-ALT-DESC;FMTTYPE=text/html:Enjoy this new musical about a young boy who tries to make a deal with a monster to eat his peas. But\, when the monster raises the stakes\, will the boy make the difficult decision to face his own fears? Best suited for ages 3 and up and is a great first step in a life-long journey of celebrating the arts. For details\, ticket information and a schedule of upcoming shows visit <a title="Flint Youth Theatre" href="http://www.thefim.org/fyt-homepage" target="_blank">www.fim.org</a>.
LOCATION:Flint Youth Theatre 1220 E. Kearsley Street Flint Michigan
UID:e.2606.803
SEQUENCE:3
DTSTAMP:20260421T114234Z
URL:https://members.flintandgeneseechamber.org/events/details/flint-youth-theatre-presents-the-monster-who-ate-my-peas-04-04-2014-803
END:VEVENT

END:VCALENDAR
