BEGIN:VCALENDAR
VERSION:2.0
PRODID:-//ChamberMaster//Event Calendar 2.0//EN
METHOD:PUBLISH
X-PUBLISHED-TTL:P3D
REFRESH-INTERVAL:P3D
CALSCALE:GREGORIAN
BEGIN:VEVENT
DTSTART:20140223T230000Z
DTEND:20140224T010000Z
X-MICROSOFT-CDO-ALLDAYEVENT:FALSE
SUMMARY:Flint Youth Theatre Presents the Stage Reading ''Clybourne Park''
DESCRIPTION:The story explodes in two outrageous acts set fifty years apart. Act One takes place in 1959\, as nervous community leaders anxiously try to stop the sale of a home to a black family. Act Two is set in the same house in the present day\, as the now predominantly African-American neighborhood battles to hold its ground in the face of gentrification. Stage readings are presented for adults and older teens and are followed by a talk-back with the performers and light refreshments. For details\, ticket information and a schedule of upcoming shows visit www.thefim.org.
X-ALT-DESC;FMTTYPE=text/html:The story explodes in two outrageous acts set fifty years apart. Act One takes place in 1959\, as nervous community leaders anxiously try to stop the sale of a home to a black family. Act Two is set in the same house in the present day\, as the now predominantly African-American neighborhood battles to hold its ground in the face of gentrification. Stage readings are presented for adults and older teens and are followed by a talk-back with the performers and light refreshments. For details\, ticket information and a schedule of upcoming shows visit <a title="Flint Youth Theatre" href="http://www.thefim.org/fyt-homepage" target="_blank">www.thefim.org</a>.
LOCATION:Flint Youth Theatre 1220 E. Kearsley Street Flint Michigan
UID:e.2606.804
SEQUENCE:3
DTSTAMP:20260421T143344Z
URL:https://members.flintandgeneseechamber.org/events/details/flint-youth-theatre-presents-the-stage-reading-clybourne-park-02-23-2014-804
END:VEVENT

END:VCALENDAR
