BEGIN:VCALENDAR
VERSION:2.0
PRODID:-//ChamberMaster//Event Calendar 2.0//EN
METHOD:PUBLISH
X-PUBLISHED-TTL:P3D
REFRESH-INTERVAL:P3D
CALSCALE:GREGORIAN
BEGIN:VEVENT
DTSTART:20140427T220000Z
DTEND:20140428T000000Z
X-MICROSOFT-CDO-ALLDAYEVENT:FALSE
SUMMARY:Flint Youth Theatre Presents the Stage Reading ''Motherhood Out Loud''
DESCRIPTION:Utterly unpredictable\, Motherhood Out Loud shatters traditional notions about parenthood\, unveils its inherent comedy and celebrates the deeply personal truths that span and unite generations. Stage readings are presented for adults and older teens and are followed by a talk-back with the performers and light refreshments. For details\, ticket information and a schedule of upcoming shows visit www.thefim.org.
X-ALT-DESC;FMTTYPE=text/html:Utterly unpredictable\, Motherhood Out Loud shatters traditional notions about parenthood\, unveils its inherent comedy and celebrates the deeply personal truths that span and unite generations. Stage readings are presented for adults and older teens and are followed by a talk-back with the performers and light refreshments. For details\, ticket information and a schedule of upcoming shows visit <a title="Flint Youth Theatre" href="http://www.thefim.org/fyt-homepage" target="_blank">www.thefim.org</a>.
LOCATION:Flint Youth Theatre 1220 E. Kearsley Street Flint Michigan
UID:e.2606.805
SEQUENCE:3
DTSTAMP:20260421T114253Z
URL:https://members.flintandgeneseechamber.org/events/details/flint-youth-theatre-presents-the-stage-reading-motherhood-out-loud-04-27-2014-805
END:VEVENT

END:VCALENDAR
