BEGIN:VCALENDAR
VERSION:2.0
PRODID:-//ChamberMaster//Event Calendar 2.0//EN
METHOD:PUBLISH
X-PUBLISHED-TTL:P3D
REFRESH-INTERVAL:P3D
CALSCALE:GREGORIAN
BEGIN:VEVENT
DTSTART:20240518T140000Z
DTEND:20240518T170000Z
X-MICROSOFT-CDO-ALLDAYEVENT:FALSE
SUMMARY:Flip Flop 5k & Community Color Run
DESCRIPTION:Get ready to flip flop your way through the Black Creek Nature Trail with The Davison Area Chamber of Commerce's 2nd Annual Flip Flop 5k and Community Color Run!\n\nThis non-competitive timed event is perfect for both runners and non-runners alike. Whether you're a seasoned pro or a first-timer\, the Flip Flop 5k is the perfect way to get outside\, get moving\, and have fun with your community.\n\nThe race winds through both the City of Davison and Davison Township\, providing stunning views of the natural beauty that surrounds us. And the best part? You don't need to wear flip flops to participate - all you need is a willingness to have fun and support our community.
X-ALT-DESC;FMTTYPE=text/html:<p>Get ready to flip flop your way through the Black Creek Nature Trail with The Davison Area Chamber of Commerce&#39\;s 2nd Annual Flip Flop 5k and Community Color Run!</p>\n\n<p>This non-competitive timed event is perfect for both runners and non-runners alike. Whether you&#39\;re a seasoned pro or a first-timer\, the Flip Flop 5k is the perfect way to get outside\, get moving\, and have fun with your community.</p>\n\n<p>The race winds through both the City of Davison and Davison Township\, providing stunning views of the natural beauty that surrounds us. And the best part? You don&#39\;t need to wear flip flops to participate - all you need is a willingness to have fun and support our community.</p>\n
LOCATION:Lake Callis Recreational Complex 1152 North Gale Road Davison\, MI 48423
UID:e.2606.18197
SEQUENCE:3
DTSTAMP:20260421T151541Z
URL:https://members.flintandgeneseechamber.org/events/details/flip-flop-5k-community-color-run-18197
END:VEVENT

END:VCALENDAR
