BEGIN:VCALENDAR
VERSION:2.0
PRODID:-//ChamberMaster//Event Calendar 2.0//EN
METHOD:PUBLISH
X-PUBLISHED-TTL:P3D
REFRESH-INTERVAL:P3D
CALSCALE:GREGORIAN
BEGIN:VEVENT
DTSTART:20131005T130000Z
DTEND:20131005T210000Z
X-MICROSOFT-CDO-ALLDAYEVENT:FALSE
SUMMARY:Flushing ''Fall Harvest Festival''
DESCRIPTION:Enjoy a day of family activities including live entertainment\, a chili cook-off\, a pie baking contest\, a pie eating contest\, a pie auction\, bounce houses for the kids\, pumpkin painting and more. For a detailed schedule of activities visit www.flushingchamber.com.
X-ALT-DESC;FMTTYPE=text/html:Enjoy a day of family activities including live entertainment\, a chili cook-off\, a pie baking contest\, a pie eating contest\, a pie auction\, bounce houses for the kids\, pumpkin painting and more. For a detailed schedule of activities visit <a title="Flushing's Fall Harvest Festival " href="http://www.flushingchamber.com/" target="_blank">www.flushingchamber.com</a>.
LOCATION:Downtown Flushing on Main Street Main Street Flushing Michigan
UID:e.2606.55
SEQUENCE:3
DTSTAMP:20260421T201835Z
URL:https://members.flintandgeneseechamber.org/events/details/flushing-fall-harvest-festival-10-05-2013-55
END:VEVENT

END:VCALENDAR
