BEGIN:VCALENDAR
VERSION:2.0
PRODID:-//ChamberMaster//Event Calendar 2.0//EN
METHOD:PUBLISH
X-PUBLISHED-TTL:P3D
REFRESH-INTERVAL:P3D
CALSCALE:GREGORIAN
BEGIN:VEVENT
DTSTART;VALUE=DATE:20131205
DTEND;VALUE=DATE:20131207
TRANSP:TRANSPARENT
X-MICROSOFT-CDO-ALLDAYEVENT:TRUE
SUMMARY:Flushing ''Holiday Candlewalk''
DESCRIPTION:Enjoy this beautiful tradition during Flushing's heartwarming annual Candlewalk\, which began over a decade ago and has grown into one of the counties largest events! Over 5\,000 softly glowing candles will light the way\, for over 5 miles\, along the streets of Flushing\, a sight not to be missed! Two evenings will be filled with family fun including wagon rides\, holiday singers\, choirs\, ice sculptures\, refreshments\, hayrides and more. You’ll find chestnuts roasting on an open fire in the middle of Main Street and Santa Claus arriving in a grand parade to light the ceremonial Christmas tree. For a detailed schedule of activities visit www.flushingchamber.com.
X-ALT-DESC;FMTTYPE=text/html:Enjoy this beautiful tradition during Flushing's heartwarming annual Candlewalk\, which began over a decade ago and has grown into one of the counties largest events! Over 5\,000 softly glowing candles will light the way\, for over 5 miles\, along the streets of Flushing\, a sight not to be missed! Two evenings will be filled with family fun including wagon rides\, holiday singers\, choirs\, ice sculptures\, refreshments\, hayrides and more. You’ll find chestnuts roasting on an open fire in the middle of Main Street and Santa Claus arriving in a grand parade to light the ceremonial Christmas tree. For a detailed schedule of activities visit <a title="Flushing Holiday Candlewalk" href="http://flushingchamber.com/events.cfm?eventID=7" target="_blank">www.flushingchamber.com.</a>
LOCATION:Downtown Flushing on Main Street Main Street Flushing Michigan
UID:e.2606.56
SEQUENCE:3
DTSTAMP:20260421T171351Z
URL:https://members.flintandgeneseechamber.org/events/details/flushing-holiday-candlewalk-12-05-2013-56
END:VEVENT

END:VCALENDAR
