BEGIN:VCALENDAR
VERSION:2.0
PRODID:-//ChamberMaster//Event Calendar 2.0//EN
METHOD:PUBLISH
X-PUBLISHED-TTL:P3D
REFRESH-INTERVAL:P3D
CALSCALE:GREGORIAN
BEGIN:VEVENT
DTSTART:20251014T133000Z
DTEND:20251014T190000Z
X-MICROSOFT-CDO-ALLDAYEVENT:FALSE
SUMMARY:Free Housing and Homelessness Convening
DESCRIPTION:Join Communities First\, Inc.\, the Greater Flint Health Coalition\, and the Genesee County Continuum of Care for a powerful one-day convening focused on ending homelessness in Genesee County. The Housing & Homelessness Convening in Flint will feature keynote speaker Gregg Colburn\, author of Homelessness is a Housing Problem\, plus panels\, breakout sessions\, and action planning. This free event brings together community leaders\, service providers\, and residents to explore real solutions to the housing crisis. Lunch provided.\n\nAdditional event speakers are:\n\n  Eric Hufnagel\, Michigan Coalition Against Homelessness\n\n \n\n  Kristin Stevenson\, Greater Flint Health Coalition\n\n \n\n  Glenn Wilson\, President and CEO of Communities First\, Inc.\n\n \n\n  Misty Bowers\, Director of Housing Programs\, Catholic Charities of Shiawassee and Genesee Counties\n\nThe event is free\, but we do ask attendees to pre-register at tinyurl.com/GCHousingandHomelessness.\n\nHousing & Homelessness Convening\n\n- Tuesday\, Oct. 14\, 2025 | 9:30 AM 3:00 PM\n\n- Former Baker College Technical Building\, 1110 W. Bristol Rd.\, Flint
X-ALT-DESC;FMTTYPE=text/html:<p>Join Communities First\, Inc.\, the Greater Flint Health Coalition\, and the Genesee County Continuum of Care for a powerful one-day convening focused on ending homelessness in Genesee County. The Housing &amp\; Homelessness Convening in Flint will feature keynote speaker&nbsp\;Gregg Colburn\, author of&nbsp\;<em>Homelessness is a Housing Problem</em>\, plus panels\, breakout sessions\, and action planning. This free event brings together community leaders\, service providers\, and residents to explore real solutions to the housing crisis.&nbsp\;Lunch provided.</p>\n\n<p>Additional event speakers are:</p>\n\n<div>&ndash\; Eric Hufnagel\, Michigan Coalition Against Homelessness</div>\n\n<div>&nbsp\;</div>\n\n<div>&ndash\; Kristin&nbsp\;<span style="color:rgba(0\, 0\, 0\, 0.9)\; font-family:-apple-system\,system-ui\,blinkmacsystemfont\,segoe ui\,roboto\,helvetica neue\,fira sans\,ubuntu\,oxygen\,oxygen sans\,cantarell\,droid sans\,apple color emoji\,segoe ui emoji\,segoe ui emoji\,segoe ui symbol\,lucida grande\,helvetica\,arial\,sans-serif\; font-size:14px">Stevenson\, Greater Flint Health Coalition</span></div>\n\n<div>&nbsp\;</div>\n\n<div>&ndash\; Glenn&nbsp\;Wilson\, President&nbsp\;and&nbsp\;CEO of Communities First\, Inc.</div>\n\n<div>&nbsp\;</div>\n\n<div>&ndash\; Misty Bowers\, Director of Housing Programs\, Catholic Charities of Shiawassee&nbsp\;and&nbsp\;Genesee Counties</div>\n\n<p>The event is free\, but we do ask attendees to pre-register at tinyurl.com/GCHousingandHomelessness.</p>\n\n<p>Housing &amp\; Homelessness Convening<br />\n- Tuesday\, Oct. 14\, 2025 |&nbsp\;9:30 AM&ndash\;3:00 PM<br />\n-&nbsp\;<em>Former Baker College Technical Building\, 1110 W. Bristol Rd.\, Flint</em></p>\n
LOCATION:Former Baker College Technical Building\, 1110 W. Bristol Road\, Flint.
UID:e.2606.20103
SEQUENCE:3
DTSTAMP:20260421T210356Z
URL:https://members.flintandgeneseechamber.org/events/details/free-housing-and-homelessness-convening-20103
END:VEVENT

END:VCALENDAR
