BEGIN:VCALENDAR
VERSION:2.0
PRODID:-//ChamberMaster//Event Calendar 2.0//EN
METHOD:PUBLISH
X-PUBLISHED-TTL:P3D
REFRESH-INTERVAL:P3D
CALSCALE:GREGORIAN
BEGIN:VEVENT
DTSTART;VALUE=DATE:20130413
DTEND;VALUE=DATE:20130414
TRANSP:TRANSPARENT
X-MICROSOFT-CDO-ALLDAYEVENT:TRUE
SUMMARY:“FSO Classical Concert” at The Whiting
DESCRIPTION:www.thewhiting.com
X-ALT-DESC;FMTTYPE=text/html:<a href="http://www.thewhiting.com/" target="_blank">www.thewhiting.com</a>
LOCATION:The Whiting 1241 E. Kearsley St. Flint Michigan 48503
UID:e.2606.97
SEQUENCE:3
DTSTAMP:20260422T055537Z
URL:https://members.flintandgeneseechamber.org/events/details/fso-classical-concert-at-the-whiting-04-13-2013-97
END:VEVENT

END:VCALENDAR
