BEGIN:VCALENDAR
VERSION:2.0
PRODID:-//ChamberMaster//Event Calendar 2.0//EN
METHOD:PUBLISH
X-PUBLISHED-TTL:P3D
REFRESH-INTERVAL:P3D
CALSCALE:GREGORIAN
BEGIN:VEVENT
DTSTART;VALUE=DATE:20130619
DTEND;VALUE=DATE:20130624
TRANSP:TRANSPARENT
X-MICROSOFT-CDO-ALLDAYEVENT:TRUE
SUMMARY:''Fun In The Sun'' - Summer Festival in Downtown Flushing
DESCRIPTION:Enjoy 5-days of fun in Flushing featuring a full carnival\, entertainment\, a Disk Dog competition\, vendors and all the fun that Summer Fest has to offer in the heart of Flushing. For a detailed schedule of activities visit http://flushingchamber.com/.
X-ALT-DESC;FMTTYPE=text/html:Enjoy 5-days of fun in Flushing featuring a full carnival\, entertainment\, a Disk Dog competition\, vendors and all the fun that Summer Fest has to offer in the heart of Flushing. For a detailed schedule of activities visit <a href="http://flushingchamber.com" target="_blank">http://flushingchamber.com/</a>.\n\n&nbsp\;
LOCATION:Downtown Flushing on Main Street Main Street Flushing Michigan
UID:e.2606.53
SEQUENCE:3
DTSTAMP:20260422T023817Z
URL:https://members.flintandgeneseechamber.org/events/details/fun-in-the-sun-summer-festival-in-downtown-flushing-06-19-2013-53
END:VEVENT

END:VCALENDAR
