BEGIN:VCALENDAR
VERSION:2.0
PRODID:-//ChamberMaster//Event Calendar 2.0//EN
METHOD:PUBLISH
X-PUBLISHED-TTL:P3D
REFRESH-INTERVAL:P3D
CALSCALE:GREGORIAN
BEGIN:VEVENT
DTSTART:20131019T190000Z
DTEND:20131019T230000Z
X-MICROSOFT-CDO-ALLDAYEVENT:FALSE
SUMMARY:Fundraiser to benefit Priority Children - Hosted by Hoffman's Deco Deli & Cafe
DESCRIPTION:Hoffman's Deco Deli & Cafe will host a fundraiser to benefit Priority Children!!\n\nDate:  October 19th\n\nTime:  3 pm to 7 pm\n\nPlace:  Hoffman's Deco Deli & Cafe\n\n503 Garland\n\nFlint\, MI\n\n \n\nFundraiser to benefit Priority Children - donations appreciated\, but event is FREE\nFamily friendly event with face painting\, huge pumpkin bounce house\, kids games\, corn hole\, decorating pumpkins\, and we hope to see lots of costumes!
X-ALT-DESC;FMTTYPE=text/html:Hoffman's Deco Deli &amp\; Cafe will host a fundraiser to benefit Priority Children!!\n\nDate:  October 19th\n\nTime:  3 pm to 7 pm\n\nPlace:  Hoffman's Deco Deli &amp\; Cafe\n\n503 Garland\n\nFlint\, MI\n\n&nbsp\;\n\nFundraiser to benefit Priority Children - donations appreciated\, but event is FREE\nFamily friendly event with face painting\, huge pumpkin bounce house\, kids games\, corn hole\, decorating pumpkins\, and we hope to see lots of costumes!
LOCATION:Hoffman's Deco Deli & Cafe 503 Garland Flint MI
UID:e.2606.559
SEQUENCE:3
DTSTAMP:20260421T202928Z
URL:https://members.flintandgeneseechamber.org/events/details/fundraiser-to-benefit-priority-children-hosted-by-hoffman-s-deco-deli-cafe-10-19-2013-559
END:VEVENT

END:VCALENDAR
